Package: bamsignals
Version: 1.38.0
Command: /Library/Frameworks/R.framework/Resources/bin/R CMD check --install=check:bamsignals.install-out.txt --library=/Library/Frameworks/R.framework/Resources/library --no-vignettes --timings bamsignals_1.38.0.tar.gz
StartedAt: 2024-11-19 19:38:08 -0500 (Tue, 19 Nov 2024)
EndedAt: 2024-11-19 19:43:22 -0500 (Tue, 19 Nov 2024)
EllapsedTime: 314.2 seconds
RetCode: 0
Status: OK
CheckDir: bamsignals.Rcheck
Warnings: 0