Package: bamsignals Version: 1.38.0 Command: rm -rf bamsignals.buildbin-libdir && mkdir bamsignals.buildbin-libdir && /Users/biocbuild/BBS/utils/build-universal.sh bamsignals_1.38.0.tar.gz /Library/Frameworks/R.framework/Resources/bin/R bamsignals.buildbin-libdir StartedAt: 2025-02-04 12:29:26 -0500 (Tue, 04 Feb 2025) EndedAt: 2025-02-04 12:30:18 -0500 (Tue, 04 Feb 2025) EllapsedTime: 52.1 seconds RetCode: 0 Status: OK PackageFile: bamsignals_1.38.0.tgz PackageFileSize: 2.834 MiB