Package: bamsignals Version: 1.38.0 Command: /home/biocbuild/bbs-3.20-bioc/R/bin/R CMD build --keep-empty-dirs --no-resave-data --md5 bamsignals StartedAt: 2025-02-03 16:24:41 -0500 (Mon, 03 Feb 2025) EndedAt: 2025-02-03 16:25:11 -0500 (Mon, 03 Feb 2025) EllapsedTime: 30.0 seconds RetCode: 0 Status: OK PackageFile: bamsignals_1.38.0.tar.gz PackageFileSize: 3.339 MiB