Package: bamsignals Version: 1.38.0 Command: /home/biocbuild/bbs-3.20-bioc/R/bin/R CMD check --install=check:bamsignals.install-out.txt --library=/home/biocbuild/bbs-3.20-bioc/R/site-library --timings bamsignals_1.38.0.tar.gz StartedAt: 2025-02-03 20:11:29 -0500 (Mon, 03 Feb 2025) EndedAt: 2025-02-03 20:13:10 -0500 (Mon, 03 Feb 2025) EllapsedTime: 100.6 seconds RetCode: 0 Status: OK CheckDir: bamsignals.Rcheck Warnings: 0