Package: bandle Version: 1.10.0 Command: /home/biocbuild/bbs-3.20-bioc/R/bin/R CMD INSTALL bandle StartedAt: 2025-02-03 15:59:56 -0500 (Mon, 03 Feb 2025) EndedAt: 2025-02-03 16:00:04 -0500 (Mon, 03 Feb 2025) EllapsedTime: 8.3 seconds RetCode: 1 Status: ERROR