Package: bandle Version: 1.10.0 Command: F:\biocbuild\bbs-3.20-bioc\R\bin\R.exe CMD INSTALL bandle StartedAt: 2025-02-03 17:10:47 -0500 (Mon, 03 Feb 2025) EndedAt: 2025-02-03 17:11:16 -0500 (Mon, 03 Feb 2025) EllapsedTime: 29.7 seconds RetCode: 1 Status: ERROR