Package: bandle Version: 1.10.0 Command: /home/biocbuild/R/R/bin/R CMD INSTALL bandle StartedAt: 2025-02-03 21:15:04 -0000 (Mon, 03 Feb 2025) EndedAt: 2025-02-03 21:15:15 -0000 (Mon, 03 Feb 2025) EllapsedTime: 11.3 seconds RetCode: 1 Status: ERROR