Package: banocc Version: 1.30.0 Command: rm -rf banocc.buildbin-libdir && mkdir banocc.buildbin-libdir && /Users/biocbuild/BBS/utils/build-universal.sh banocc_1.30.0.tar.gz /Library/Frameworks/R.framework/Resources/bin/R banocc.buildbin-libdir StartedAt: 2025-02-01 13:58:00 -0500 (Sat, 01 Feb 2025) EndedAt: 2025-02-01 13:58:14 -0500 (Sat, 01 Feb 2025) EllapsedTime: 13.6 seconds RetCode: 0 Status: OK PackageFile: banocc_1.30.0.tgz PackageFileSize: 1.578 MiB