Package: banocc Version: 1.30.0 Command: /Library/Frameworks/R.framework/Resources/bin/R CMD build --keep-empty-dirs --no-resave-data banocc StartedAt: 2025-01-30 19:14:31 -0500 (Thu, 30 Jan 2025) EndedAt: 2025-01-30 19:16:45 -0500 (Thu, 30 Jan 2025) EllapsedTime: 134.8 seconds RetCode: 0 Status: OK PackageFile: banocc_1.30.0.tar.gz PackageFileSize: 26.07 MiB