Package: banocc Version: 1.30.0 Command: chmod a+r banocc -R && F:\biocbuild\bbs-3.20-bioc\R\bin\R.exe CMD build --keep-empty-dirs --no-resave-data banocc StartedAt: 2025-02-03 17:36:37 -0500 (Mon, 03 Feb 2025) EndedAt: 2025-02-03 17:41:35 -0500 (Mon, 03 Feb 2025) EllapsedTime: 298.6 seconds RetCode: 0 Status: OK PackageFile: banocc_1.30.0.tar.gz PackageFileSize: 25.56 MiB