Package: banocc Version: 1.30.0 Command: F:\biocbuild\bbs-3.20-bioc\R\bin\R.exe CMD INSTALL banocc StartedAt: 2025-01-30 15:33:46 -0500 (Thu, 30 Jan 2025) EndedAt: 2025-01-30 15:34:02 -0500 (Thu, 30 Jan 2025) EllapsedTime: 16.2 seconds RetCode: 0 Status: OK