Package: banocc Version: 1.30.0 Command: /home/biocbuild/R/R/bin/R CMD check --install=check:banocc.install-out.txt --library=/home/biocbuild/R/R/site-library --no-vignettes --timings banocc_1.30.0.tar.gz StartedAt: 2025-02-04 04:32:59 -0000 (Tue, 04 Feb 2025) EndedAt: 2025-02-04 04:36:37 -0000 (Tue, 04 Feb 2025) EllapsedTime: 218.4 seconds RetCode: 0 Status: OK CheckDir: banocc.Rcheck Warnings: 0