Package: barcodetrackR Version: 1.14.0 Command: /Library/Frameworks/R.framework/Resources/bin/R CMD build --keep-empty-dirs --no-resave-data barcodetrackR StartedAt: 2025-02-03 19:05:07 -0500 (Mon, 03 Feb 2025) EndedAt: 2025-02-03 19:06:35 -0500 (Mon, 03 Feb 2025) EllapsedTime: 87.1 seconds RetCode: 0 Status: OK PackageFile: barcodetrackR_1.14.0.tar.gz PackageFileSize: 3.554 MiB