Package: barcodetrackR Version: 1.14.0 Command: /Library/Frameworks/R.framework/Resources/bin/R CMD INSTALL barcodetrackR StartedAt: 2025-02-03 16:07:16 -0500 (Mon, 03 Feb 2025) EndedAt: 2025-02-03 16:08:10 -0500 (Mon, 03 Feb 2025) EllapsedTime: 54.0 seconds RetCode: 0 Status: OK