Package: barcodetrackR Version: 1.14.0 Command: /home/biocbuild/bbs-3.20-bioc/R/bin/R CMD build --keep-empty-dirs --no-resave-data --md5 barcodetrackR StartedAt: 2025-02-10 16:17:34 -0500 (Mon, 10 Feb 2025) EndedAt: 2025-02-10 16:18:42 -0500 (Mon, 10 Feb 2025) EllapsedTime: 67.1 seconds RetCode: 0 Status: OK PackageFile: barcodetrackR_1.14.0.tar.gz PackageFileSize: 3.429 MiB