Package: barcodetrackR Version: 1.14.0 Command: /home/biocbuild/R/R/bin/R CMD build --keep-empty-dirs --no-resave-data barcodetrackR StartedAt: 2025-02-03 21:45:45 -0000 (Mon, 03 Feb 2025) EndedAt: 2025-02-03 21:47:26 -0000 (Mon, 03 Feb 2025) EllapsedTime: 101.0 seconds RetCode: 0 Status: OK PackageFile: barcodetrackR_1.14.0.tar.gz PackageFileSize: 2.048 MiB