Package: barcodetrackR Version: 1.14.0 Command: /home/biocbuild/R/R/bin/R CMD check --install=check:barcodetrackR.install-out.txt --library=/home/biocbuild/R/R/site-library --no-vignettes --timings barcodetrackR_1.14.0.tar.gz StartedAt: 2025-02-11 03:52:40 -0000 (Tue, 11 Feb 2025) EndedAt: 2025-02-11 03:56:30 -0000 (Tue, 11 Feb 2025) EllapsedTime: 229.2 seconds RetCode: 0 Status: OK CheckDir: barcodetrackR.Rcheck Warnings: 0