Package: barcodetrackR Version: 1.14.0 Command: /home/biocbuild/R/R/bin/R CMD INSTALL barcodetrackR StartedAt: 2025-02-03 20:58:11 -0000 (Mon, 03 Feb 2025) EndedAt: 2025-02-03 20:58:42 -0000 (Mon, 03 Feb 2025) EllapsedTime: 30.7 seconds RetCode: 0 Status: OK