Package: basecallQC Version: 1.30.0 Command: /Library/Frameworks/R.framework/Resources/bin/R CMD INSTALL basecallQC StartedAt: 2025-02-03 16:32:29 -0500 (Mon, 03 Feb 2025) EndedAt: 2025-02-03 16:33:30 -0500 (Mon, 03 Feb 2025) EllapsedTime: 60.6 seconds RetCode: 0 Status: OK