Package: basecallQC Version: 1.30.0 Command: rm -rf basecallQC.buildbin-libdir && mkdir basecallQC.buildbin-libdir && /Users/biocbuild/BBS/utils/build-universal.sh basecallQC_1.30.0.tar.gz /Library/Frameworks/R.framework/Resources/bin/R basecallQC.buildbin-libdir StartedAt: 2025-02-18 11:44:45 -0500 (Tue, 18 Feb 2025) EndedAt: 2025-02-18 11:46:46 -0500 (Tue, 18 Feb 2025) EllapsedTime: 121.0 seconds RetCode: 0 Status: OK PackageFile: basecallQC_1.30.0.tgz PackageFileSize: 1.259 <A href="http://en.wikipedia.org/wiki/MiB" target="_blank">MiB</A>