Package: basecallQC Version: 1.30.0 Command: /Library/Frameworks/R.framework/Resources/bin/R CMD build --keep-empty-dirs --no-resave-data basecallQC StartedAt: 2025-02-03 17:11:25 -0500 (Mon, 03 Feb 2025) EndedAt: 2025-02-03 17:14:36 -0500 (Mon, 03 Feb 2025) EllapsedTime: 191.3 seconds RetCode: 0 Status: OK PackageFile: basecallQC_1.30.0.tar.gz PackageFileSize: 1.525 MiB