Package: basecallQC Version: 1.30.0 Command: /home/biocbuild/bbs-3.20-bioc/R/bin/R CMD check --install=check:basecallQC.install-out.txt --library=/home/biocbuild/bbs-3.20-bioc/R/site-library --timings basecallQC_1.30.0.tar.gz StartedAt: 2025-02-03 20:12:13 -0500 (Mon, 03 Feb 2025) EndedAt: 2025-02-03 20:19:27 -0500 (Mon, 03 Feb 2025) EllapsedTime: 433.8 seconds RetCode: 0 Status: OK CheckDir: basecallQC.Rcheck Warnings: 0