Package: basecallQC Version: 1.30.0 Command: /home/biocbuild/bbs-3.20-bioc/R/bin/R CMD INSTALL basecallQC StartedAt: 2025-02-03 15:39:51 -0500 (Mon, 03 Feb 2025) EndedAt: 2025-02-03 15:40:43 -0500 (Mon, 03 Feb 2025) EllapsedTime: 52.5 seconds RetCode: 0 Status: OK