Package: basecallQC Version: 1.30.0 Command: F:\biocbuild\bbs-3.20-bioc\R\bin\R.exe CMD INSTALL basecallQC StartedAt: 2025-02-03 17:06:22 -0500 (Mon, 03 Feb 2025) EndedAt: 2025-02-03 17:08:02 -0500 (Mon, 03 Feb 2025) EllapsedTime: 99.4 seconds RetCode: 0 Status: OK