Package: basecallQC Version: 1.30.0 Command: /home/biocbuild/R/R/bin/R CMD INSTALL basecallQC StartedAt: 2025-02-03 20:54:05 -0000 (Mon, 03 Feb 2025) EndedAt: 2025-02-03 20:54:06 -0000 (Mon, 03 Feb 2025) EllapsedTime: 1.0 seconds RetCode: 1 Status: ERROR