Package: basilisk.utils Version: 1.18.0 Command: rm -rf basilisk.utils.buildbin-libdir && mkdir basilisk.utils.buildbin-libdir && /Users/biocbuild/BBS/utils/build-universal.sh basilisk.utils_1.18.0.tar.gz /Library/Frameworks/R.framework/Resources/bin/R basilisk.utils.buildbin-libdir StartedAt: 2025-02-05 14:53:59 -0500 (Wed, 05 Feb 2025) EndedAt: 2025-02-05 14:54:02 -0500 (Wed, 05 Feb 2025) EllapsedTime: 3.4 seconds RetCode: 0 Status: OK PackageFile: basilisk.utils_1.18.0.tgz PackageFileSize: 285.6 KiB