Package: basilisk.utils Version: 1.18.0 Command: /Library/Frameworks/R.framework/Resources/bin/R CMD build --keep-empty-dirs --no-resave-data basilisk.utils StartedAt: 2025-02-03 19:08:54 -0500 (Mon, 03 Feb 2025) EndedAt: 2025-02-03 19:09:00 -0500 (Mon, 03 Feb 2025) EllapsedTime: 5.6 seconds RetCode: 0 Status: OK PackageFile: basilisk.utils_1.18.0.tar.gz PackageFileSize: 234.9 KiB