Package: basilisk.utils
Version: 1.18.0
Command: F:\biocbuild\bbs-3.20-bioc\R\bin\R.exe CMD INSTALL basilisk.utils
StartedAt: 2025-02-17 15:26:52 -0500 (Mon, 17 Feb 2025)
EndedAt: 2025-02-17 15:27:22 -0500 (Mon, 17 Feb 2025)
EllapsedTime: 29.7 seconds
RetCode: 0
Status: OK