Package: basilisk Version: 1.18.0 Command: /Library/Frameworks/R.framework/Resources/bin/R CMD check --install=check:basilisk.install-out.txt --library=/Library/Frameworks/R.framework/Resources/library --no-vignettes --timings basilisk_1.18.0.tar.gz StartedAt: 2025-01-31 11:45:23 -0500 (Fri, 31 Jan 2025) EndedAt: 2025-01-31 12:10:03 -0500 (Fri, 31 Jan 2025) EllapsedTime: 1479.7 seconds RetCode: 0 Status: OK CheckDir: basilisk.Rcheck Warnings: 0