Package: basilisk Version: 1.18.0 Command: rm -rf basilisk.buildbin-libdir && mkdir basilisk.buildbin-libdir && /Users/biocbuild/BBS/utils/build-universal.sh basilisk_1.18.0.tar.gz /Library/Frameworks/R.framework/Resources/bin/R basilisk.buildbin-libdir StartedAt: 2025-02-04 12:30:04 -0500 (Tue, 04 Feb 2025) EndedAt: 2025-02-04 12:30:20 -0500 (Tue, 04 Feb 2025) EllapsedTime: 16.0 seconds RetCode: 0 Status: OK PackageFile: basilisk_1.18.0.tgz PackageFileSize: 307.8 KiB