Package: basilisk Version: 1.18.0 Command: /Library/Frameworks/R.framework/Resources/bin/R CMD build --keep-empty-dirs --no-resave-data basilisk StartedAt: 2025-02-03 17:12:34 -0500 (Mon, 03 Feb 2025) EndedAt: 2025-02-03 17:26:15 -0500 (Mon, 03 Feb 2025) EllapsedTime: 821.1 seconds RetCode: 0 Status: OK PackageFile: basilisk_1.18.0.tar.gz PackageFileSize: 263.4 KiB