Package: basilisk Version: 1.18.0 Command: /Library/Frameworks/R.framework/Resources/bin/R CMD check --install=check:basilisk.install-out.txt --library=/Library/Frameworks/R.framework/Resources/library --no-vignettes --timings basilisk_1.18.0.tar.gz StartedAt: 2025-01-31 00:28:17 -0500 (Fri, 31 Jan 2025) EndedAt: 2025-01-31 01:08:18 -0500 (Fri, 31 Jan 2025) EllapsedTime: 2400.8 seconds RetCode: None Status: TIMEOUT CheckDir: basilisk.Rcheck Warnings: NA