Package: basilisk Version: 1.18.0 Command: /home/biocbuild/bbs-3.20-bioc/R/bin/R CMD check --install=check:basilisk.install-out.txt --library=/home/biocbuild/bbs-3.20-bioc/R/site-library --timings basilisk_1.18.0.tar.gz StartedAt: 2025-02-03 20:14:47 -0500 (Mon, 03 Feb 2025) EndedAt: 2025-02-03 20:35:43 -0500 (Mon, 03 Feb 2025) EllapsedTime: 1256.5 seconds RetCode: 0 Status: OK CheckDir: basilisk.Rcheck Warnings: 0