Package: basilisk Version: 1.18.0 Command: rm -rf basilisk.buildbin-libdir && mkdir basilisk.buildbin-libdir && F:\biocbuild\bbs-3.20-bioc\R\bin\R.exe CMD INSTALL --build --library=basilisk.buildbin-libdir basilisk_1.18.0.tar.gz StartedAt: 2025-02-04 08:00:54 -0500 (Tue, 04 Feb 2025) EndedAt: 2025-02-04 08:01:14 -0500 (Tue, 04 Feb 2025) EllapsedTime: 20.4 seconds RetCode: 0 Status: OK PackageFile: basilisk_1.18.0.zip PackageFileSize: 320.4 KiB