Package: basilisk Version: 1.18.0 Command: F:\biocbuild\bbs-3.20-bioc\R\bin\R.exe CMD check --no-multiarch --install=check:basilisk.install-out.txt --library=F:\biocbuild\bbs-3.20-bioc\R\library --no-vignettes --timings basilisk_1.18.0.tar.gz StartedAt: 2025-01-30 23:34:47 -0500 (Thu, 30 Jan 2025) EndedAt: 2025-01-30 23:35:51 -0500 (Thu, 30 Jan 2025) EllapsedTime: 63.3 seconds RetCode: 0 Status: OK CheckDir: basilisk.Rcheck Warnings: 0