Package: basilisk Version: 1.18.0 Command: /home/biocbuild/R/R/bin/R CMD build --keep-empty-dirs --no-resave-data basilisk StartedAt: 2025-01-30 21:43:08 -0000 (Thu, 30 Jan 2025) EndedAt: 2025-01-30 21:45:27 -0000 (Thu, 30 Jan 2025) EllapsedTime: 139.0 seconds RetCode: 1 Status: ERROR PackageFile: None PackageFileSize: NA