Package: basilisk Version: 1.18.0 Command: /home/biocbuild/R/R/bin/R CMD INSTALL basilisk StartedAt: 2025-01-30 20:12:02 -0000 (Thu, 30 Jan 2025) EndedAt: 2025-01-30 20:12:36 -0000 (Thu, 30 Jan 2025) EllapsedTime: 33.8 seconds RetCode: 0 Status: OK