Package: batchelor
Version: 1.22.0
Command: rm -rf batchelor.buildbin-libdir && mkdir batchelor.buildbin-libdir && /Users/biocbuild/BBS/utils/build-universal.sh batchelor_1.22.0.tar.gz /Library/Frameworks/R.framework/Resources/bin/R batchelor.buildbin-libdir
StartedAt: 2024-11-09 16:38:20 -0500 (Sat, 09 Nov 2024)
EndedAt: 2024-11-09 16:38:35 -0500 (Sat, 09 Nov 2024)
EllapsedTime: 15.2 seconds
RetCode: 0
Status: OK
PackageFile: batchelor_1.22.0.tgz
PackageFileSize: 2.354 <A href="http://en.wikipedia.org/wiki/MiB" target="_blank">MiB</A>