Package: batchelor Version: 1.22.0 Command: /home/biocbuild/bbs-3.20-bioc/R/bin/R CMD check --install=check:batchelor.install-out.txt --library=/home/biocbuild/bbs-3.20-bioc/R/site-library --timings batchelor_1.22.0.tar.gz StartedAt: 2025-02-03 20:14:54 -0500 (Mon, 03 Feb 2025) EndedAt: 2025-02-03 20:23:28 -0500 (Mon, 03 Feb 2025) EllapsedTime: 514.4 seconds RetCode: 0 Status: OK CheckDir: batchelor.Rcheck Warnings: 0