Package: batchelor Version: 1.22.0 Command: F:\biocbuild\bbs-3.20-bioc\R\bin\R.exe CMD INSTALL batchelor StartedAt: 2025-02-03 16:37:40 -0500 (Mon, 03 Feb 2025) EndedAt: 2025-02-03 16:38:44 -0500 (Mon, 03 Feb 2025) EllapsedTime: 63.9 seconds RetCode: 0 Status: OK