Package: bayNorm Version: 1.24.0 Command: /Library/Frameworks/R.framework/Resources/bin/R CMD build --keep-empty-dirs --no-resave-data bayNorm StartedAt: 2025-02-03 17:13:43 -0500 (Mon, 03 Feb 2025) EndedAt: 2025-02-03 17:16:08 -0500 (Mon, 03 Feb 2025) EllapsedTime: 145.3 seconds RetCode: 0 Status: OK PackageFile: bayNorm_1.24.0.tar.gz PackageFileSize: 1.526 MiB