Package: bayNorm Version: 1.24.0 Command: /Library/Frameworks/R.framework/Resources/bin/R CMD INSTALL bayNorm StartedAt: 2025-02-03 16:19:25 -0500 (Mon, 03 Feb 2025) EndedAt: 2025-02-03 16:20:54 -0500 (Mon, 03 Feb 2025) EllapsedTime: 88.7 seconds RetCode: 0 Status: OK