Package: bayNorm
Version: 1.23.0
Command: rm -rf bayNorm.buildbin-libdir && mkdir bayNorm.buildbin-libdir && F:\biocbuild\bbs-3.20-bioc\R\bin\R.exe CMD INSTALL --build --library=bayNorm.buildbin-libdir bayNorm_1.23.0.tar.gz
StartedAt: 2024-06-10 12:55:55 -0400 (Mon, 10 Jun 2024)
EndedAt: 2024-06-10 12:57:34 -0400 (Mon, 10 Jun 2024)
EllapsedTime: 98.7 seconds
RetCode: 0
Status: OK
PackageFile: bayNorm_1.23.0.zip
PackageFileSize: 849 <A href="http://en.wikipedia.org/wiki/KiB" target="_blank">KiB</A>