Package: bayNorm
Version: 1.24.0
Command: F:\biocbuild\bbs-3.20-bioc\R\bin\R.exe CMD check --no-multiarch --install=check:bayNorm.install-out.txt --library=F:\biocbuild\bbs-3.20-bioc\R\library --no-vignettes --timings bayNorm_1.24.0.tar.gz
StartedAt: 2025-02-17 23:08:50 -0500 (Mon, 17 Feb 2025)
EndedAt: 2025-02-17 23:12:31 -0500 (Mon, 17 Feb 2025)
EllapsedTime: 220.8 seconds
RetCode: 0
Status: OK
CheckDir: bayNorm.Rcheck
Warnings: 0