Package: bcSeq Version: 1.28.0 Command: /Library/Frameworks/R.framework/Resources/bin/R CMD check --install=check:bcSeq.install-out.txt --library=/Library/Frameworks/R.framework/Resources/library --no-vignettes --timings bcSeq_1.28.0.tar.gz StartedAt: 2025-02-04 12:11:47 -0500 (Tue, 04 Feb 2025) EndedAt: 2025-02-04 12:13:29 -0500 (Tue, 04 Feb 2025) EllapsedTime: 102.0 seconds RetCode: 0 Status: WARNINGS CheckDir: bcSeq.Rcheck Warnings: 1