Package: bcSeq Version: 1.28.0 Command: /Library/Frameworks/R.framework/Resources/bin/R CMD INSTALL bcSeq StartedAt: 2025-02-03 15:21:42 -0500 (Mon, 03 Feb 2025) EndedAt: 2025-02-03 15:22:59 -0500 (Mon, 03 Feb 2025) EllapsedTime: 77.7 seconds RetCode: 0 Status: OK