Package: bcSeq Version: 1.28.0 Command: /home/biocbuild/bbs-3.20-bioc/R/bin/R CMD build --keep-empty-dirs --no-resave-data --md5 bcSeq StartedAt: 2025-02-03 16:27:18 -0500 (Mon, 03 Feb 2025) EndedAt: 2025-02-03 16:28:05 -0500 (Mon, 03 Feb 2025) EllapsedTime: 47.1 seconds RetCode: 0 Status: OK PackageFile: bcSeq_1.28.0.tar.gz PackageFileSize: 242.1 KiB