Package: bcSeq Version: 1.28.0 Command: /home/biocbuild/bbs-3.20-bioc/R/bin/R CMD check --install=check:bcSeq.install-out.txt --library=/home/biocbuild/bbs-3.20-bioc/R/site-library --timings bcSeq_1.28.0.tar.gz StartedAt: 2025-02-03 20:16:38 -0500 (Mon, 03 Feb 2025) EndedAt: 2025-02-03 20:18:15 -0500 (Mon, 03 Feb 2025) EllapsedTime: 97.1 seconds RetCode: 0 Status: WARNINGS CheckDir: bcSeq.Rcheck Warnings: 1