Package: bcSeq Version: 1.28.0 Command: chmod a+r bcSeq -R && F:\biocbuild\bbs-3.20-bioc\R\bin\R.exe CMD build --keep-empty-dirs --no-resave-data bcSeq StartedAt: 2025-02-03 17:38:39 -0500 (Mon, 03 Feb 2025) EndedAt: 2025-02-03 17:39:56 -0500 (Mon, 03 Feb 2025) EllapsedTime: 77.4 seconds RetCode: 0 Status: OK PackageFile: bcSeq_1.28.0.tar.gz PackageFileSize: 237.7 KiB