Package: bcSeq Version: 1.28.0 Command: /home/biocbuild/R/R/bin/R CMD build --keep-empty-dirs --no-resave-data bcSeq StartedAt: 2025-02-03 21:49:10 -0000 (Mon, 03 Feb 2025) EndedAt: 2025-02-03 21:50:10 -0000 (Mon, 03 Feb 2025) EllapsedTime: 60.0 seconds RetCode: 0 Status: OK PackageFile: bcSeq_1.28.0.tar.gz PackageFileSize: 227.7 KiB